BEGIN:VCALENDAR
VERSION:2.0
PRODID:-//Scoil Phadraic Cailini National School - ECPv4.6.3//NONSGML v1.0//EN
CALSCALE:GREGORIAN
METHOD:PUBLISH
X-WR-CALNAME:Scoil Phadraic Cailini National School
X-ORIGINAL-URL:http://www.scoilphadraiccailini.ie
X-WR-CALDESC:Events for Scoil Phadraic Cailini National School
BEGIN:VEVENT
DTSTART;TZID=Europe/Dublin:20171110T090000
DTEND;TZID=Europe/Dublin:20171110T140000
DTSTAMP:20171107T232939
CREATED:20171002T141431Z
LAST-MODIFIED:20171002T141431Z
UID:355-1510304400-1510322400@www.scoilphadraiccailini.ie
SUMMARY:6th Class Retreat
DESCRIPTION:6th Class Confirmation girls will attend a retreat in Emmaus retreat centre \n
URL:http://www.scoilphadraiccailini.ie/event/6th-class-retreat/
END:VEVENT
END:VCALENDAR