BEGIN:VCALENDAR
VERSION:2.0
PRODID:-//Scoil Phadraic Cailini National School - ECPv4.6.3//NONSGML v1.0//EN
CALSCALE:GREGORIAN
METHOD:PUBLISH
X-WR-CALNAME:Scoil Phadraic Cailini National School
X-ORIGINAL-URL:http://www.scoilphadraiccailini.ie
X-WR-CALDESC:Events for Scoil Phadraic Cailini National School
BEGIN:VEVENT
DTSTART;VALUE=DATE:20180101
DTEND;VALUE=DATE:20180106
DTSTAMP:20171108T000104
CREATED:20171003T142231Z
LAST-MODIFIED:20171003T142231Z
UID:392-1514764800-1515196799@www.scoilphadraiccailini.ie
SUMMARY:Christmas Holidays
DESCRIPTION:
URL:http://www.scoilphadraiccailini.ie/event/christmas-holidays-2/
END:VEVENT
END:VCALENDAR