BEGIN:VCALENDAR
VERSION:2.0
PRODID:-//Scoil Phadraic Cailini National School - ECPv4.6.3//NONSGML v1.0//EN
CALSCALE:GREGORIAN
METHOD:PUBLISH
X-WR-CALNAME:Scoil Phadraic Cailini National School
X-ORIGINAL-URL:http://www.scoilphadraiccailini.ie
X-WR-CALDESC:Events for Scoil Phadraic Cailini National School
BEGIN:VEVENT
DTSTART;VALUE=DATE:20170602
DTEND;VALUE=DATE:20170606
DTSTAMP:20171107T235311
CREATED:20170524T190106Z
LAST-MODIFIED:20170524T190106Z
UID:143-1496361600-1496707199@www.scoilphadraiccailini.ie
SUMMARY:June Bank Holiday 2017
DESCRIPTION:School closed from June 2nd. Re opens June 6th \n
URL:http://www.scoilphadraiccailini.ie/event/june-bank-holiday-2017/
CATEGORIES:General,Holiday
END:VEVENT
END:VCALENDAR