BEGIN:VCALENDAR
VERSION:2.0
PRODID:-//Scoil Phadraic Cailini National School - ECPv4.6.3//NONSGML v1.0//EN
CALSCALE:GREGORIAN
METHOD:PUBLISH
X-WR-CALNAME:Scoil Phadraic Cailini National School
X-ORIGINAL-URL:http://www.scoilphadraiccailini.ie
X-WR-CALDESC:Events for Scoil Phadraic Cailini National School
BEGIN:VEVENT
DTSTART;TZID=Europe/Dublin:20171026T190000
DTEND;TZID=Europe/Dublin:20171026T210000
DTSTAMP:20171107T233200
CREATED:20171002T141022Z
LAST-MODIFIED:20171002T141154Z
UID:351-1509044400-1509051600@www.scoilphadraiccailini.ie
SUMMARY:Open Evening
DESCRIPTION:Open evening in Scoil Phadraic Cailíní and St. Patrick’s Boys’ National School. All welcome! \n
URL:http://www.scoilphadraiccailini.ie/event/open-night/
END:VEVENT
END:VCALENDAR