BEGIN:VCALENDAR
VERSION:2.0
PRODID:-//Scoil Phadraic Cailini National School - ECPv4.6.3//NONSGML v1.0//EN
CALSCALE:GREGORIAN
METHOD:PUBLISH
X-WR-CALNAME:Scoil Phadraic Cailini National School
X-ORIGINAL-URL:http://www.scoilphadraiccailini.ie
X-WR-CALDESC:Events for Scoil Phadraic Cailini National School
BEGIN:VEVENT
DTSTART;VALUE=DATE:20171129
DTEND;VALUE=DATE:20171130
DTSTAMP:20171107T233242
CREATED:20171002T141705Z
LAST-MODIFIED:20171002T141705Z
UID:358-1511913600-1511999999@www.scoilphadraiccailini.ie
SUMMARY:School closed for In-service Day
DESCRIPTION:School closed for all pupils as teachers attend an in-service course \n
URL:http://www.scoilphadraiccailini.ie/event/school-closed-for-in-service-day/
END:VEVENT
END:VCALENDAR