BEGIN:VCALENDAR
VERSION:2.0
PRODID:-//Scoil Phadraic Cailini National School - ECPv4.6.3//NONSGML v1.0//EN
CALSCALE:GREGORIAN
METHOD:PUBLISH
X-WR-CALNAME:Scoil Phadraic Cailini National School
X-ORIGINAL-URL:http://www.scoilphadraiccailini.ie
X-WR-CALDESC:Events for Scoil Phadraic Cailini National School
BEGIN:VEVENT
DTSTART;TZID=Europe/Dublin:20171201T090000
DTEND;TZID=Europe/Dublin:20171201T120000
DTSTAMP:20171107T233853
CREATED:20171002T141906Z
LAST-MODIFIED:20171002T141906Z
UID:361-1512118800-1512129600@www.scoilphadraiccailini.ie
SUMMARY:Jumble Sale
DESCRIPTION:6th classes’ jumble sale in the school hall. Please support! \n
URL:http://www.scoilphadraiccailini.ie/event/jumble-sale/
LOCATION:Portrane Road\, Donabate\, Co Dublin\, K36 KH36\, Ireland
END:VEVENT
END:VCALENDAR